BEGIN:VCALENDAR
VERSION:2.0
PRODID:-//Tukios.com/
BEGIN:VEVENT
UID:1e649b20-f2cf-49f7-a5d9-a97750dc8670@www.bentonfuneralhome.net
DTSTAMP:20260426T002408Z
DTSTART:20260428T190000Z
DTEND:20260428T200000Z
SUMMARY:Funeral Service
DESCRIPTION:
URL:https://www.bentonfuneralhome.net/obituaries/macel-linzy-loomis
LOCATION: 501 W 4th St  Fordyce AR 71742
GEO:33.812254;-92.4176143
END:VEVENT
END:VCALENDAR