BEGIN:VCALENDAR
VERSION:2.0
PRODID:-//Tukios.com/
BEGIN:VEVENT
UID:f7826e2b-b47c-4988-b851-e73e5928324e@www.bentonfuneralhome.net
DTSTAMP:20260426T002520Z
DTSTART:20260427T230000Z
DTEND:20260428T010000Z
SUMMARY:Visitation
DESCRIPTION:
URL:https://www.bentonfuneralhome.net/obituaries/macel-linzy-loomis
LOCATION: 501 W 4th St  Fordyce AR 71742
GEO:33.812254;-92.4176143
END:VEVENT
END:VCALENDAR