BEGIN:VCALENDAR
VERSION:2.0
PRODID:-//Tukios.com/
BEGIN:VEVENT
UID:5cc43254-2637-4514-a0e7-adce28573fbc@www.bentonfuneralhome.net
DTSTAMP:20260422T233816Z
DTSTART:20260425T150000Z
DTEND:20260425T160000Z
SUMMARY:Visitation
DESCRIPTION:
URL:https://www.bentonfuneralhome.net/obituaries/chad-crutchfield
LOCATION: 4647 Pine St  Arkadelphia AR 71923
GEO:34.1237979;-93.1264275
END:VEVENT
END:VCALENDAR