BEGIN:VCALENDAR
VERSION:2.0
PRODID:-//Tukios.com/
BEGIN:VEVENT
UID:380b6618-102d-44a2-8628-c16d42ab8fed@www.bentonfuneralhome.net
DTSTAMP:20260422T234134Z
DTSTART:20260425T160000Z
DTEND:20260425T170000Z
SUMMARY:Graveside Service
DESCRIPTION:
URL:https://www.bentonfuneralhome.net/obituaries/chad-crutchfield
LOCATION:Rest Haven Memorial Garden Cemetery 4647 Pine Street  
	Arkadelphia AR 71923
GEO:34.124373;-93.1266891
END:VEVENT
END:VCALENDAR