BEGIN:VCALENDAR
VERSION:2.0
PRODID:-//Tukios.com/
BEGIN:VEVENT
UID:2ea78d9f-063e-4105-a1ac-ca4552cd1798@www.bentonfuneralhome.net
DTSTAMP:20260421T005541Z
DTSTART:20260423T190000Z
DTEND:20260423T200000Z
SUMMARY:Memorial Service
DESCRIPTION:
URL:https://www.bentonfuneralhome.net/obituaries/billy-ladd
LOCATION: 501 W 4th St  Fordyce AR 71742
GEO:33.812254;-92.4176143
END:VEVENT
END:VCALENDAR