BEGIN:VCALENDAR
VERSION:2.0
PRODID:-//Tukios.com/
BEGIN:VEVENT
UID:708134d3-19f6-42cd-a117-3e60dfa2ee43@www.bentonfuneralhome.net
DTSTAMP:20260421T004951Z
DTSTART:20260423T180000Z
DTEND:20260423T190000Z
SUMMARY:Visitation
DESCRIPTION:
URL:https://www.bentonfuneralhome.net/obituaries/billy-ladd
LOCATION: 501 W 4th St  Fordyce AR 71742
GEO:33.812254;-92.4176143
END:VEVENT
END:VCALENDAR